BEGIN:VCALENDAR
VERSION:2.0
PRODID:-//Squarespace Inc/Squarespace 6//v6//EN
BEGIN:VEVENT
UID:5bedc5d921c67c880c7bd703@squarespace.com
DTSTAMP:20181115T192514Z
DTSTART:20181212T213000Z
DTEND:20181212T233000Z
SUMMARY:Beer and Banter\, Wine and Wisdom
END:VEVENT
END:VCALENDAR
