BEGIN:VCALENDAR
VERSION:2.0
PRODID:-//Squarespace Inc/Squarespace 6//v6//EN
BEGIN:VEVENT
UID:5bedc6bd4ae2371637508804@squarespace.com
DTSTAMP:20181115T193034Z
DTSTART:20181123T230000Z
DTEND:20181124T000000Z
SUMMARY:Wellington Branch Beer and Banter
END:VEVENT
END:VCALENDAR
