BEGIN:VCALENDAR
VERSION:2.0
PRODID:-//Squarespace Inc/Squarespace 6//v6//EN
BEGIN:VEVENT
UID:5bedc84c88251bc71a2c5e69@squarespace.com
DTSTAMP:20181115T193301Z
DTSTART:20181122T220000Z
DTEND:20181123T030000Z
SUMMARY:Canterbury Branch End of Year Dinner and Show
END:VEVENT
END:VCALENDAR
