BEGIN:VCALENDAR
VERSION:2.0
PRODID:-//Squarespace Inc/Squarespace 6//v6//EN
BEGIN:VEVENT
UID:5c14a0ea562fa7836b1fe1b0@squarespace.com
DTSTAMP:20181215T063752Z
DTSTART:20181215T070000Z
DTEND:20181215T080000Z
SUMMARY:Auckland Best Practice Workshop
END:VEVENT
END:VCALENDAR
