BEGIN:VCALENDAR
VERSION:2.0
PRODID:-//Squarespace Inc/Squarespace 6//v6//EN
BEGIN:VEVENT
UID:5bedc74baa4a99e5db471619@squarespace.com
DTSTAMP:20181115T192428Z
DTSTART:20181205T213000Z
DTEND:20181205T233000Z
SUMMARY:Auckland Branch Beer and Banter &amp\; AGM
END:VEVENT
END:VCALENDAR
