BEGIN:VCALENDAR
VERSION:2.0
PRODID:-//Squarespace Inc/Squarespace 6//v6//EN
BEGIN:VEVENT
UID:5b14addf03ce64bc2d175185@squarespace.com
DTSTAMP:20180604T032503Z
DTSTART:20180629T013000Z
DTEND:20180629T020000Z
SUMMARY:Tauranga NZQA Best Practice Workshop
END:VEVENT
END:VCALENDAR
