BEGIN:VCALENDAR
VERSION:2.0
PRODID:-//Squarespace Inc/Squarespace 6//v6//EN
BEGIN:VEVENT
UID:5b14b1db575d1fc8517ff389@squarespace.com
DTSTAMP:20180604T034640Z
DTSTART:20180629T173000Z
DTEND:20180629T203000Z
SUMMARY:The Joy of Externals - PD Workshop
END:VEVENT
END:VCALENDAR
