BEGIN:VCALENDAR
VERSION:2.0
PRODID:-//Squarespace Inc/Squarespace 6//v6//EN
BEGIN:VEVENT
UID:5b14b140f950b7b3c37e78c5@squarespace.com
DTSTAMP:20180604T032804Z
DTSTART:20180604T033000Z
DTEND:20180604T043000Z
SUMMARY:The Biggest - The Court Theatre Dress Rehearsal
END:VEVENT
END:VCALENDAR
