BEGIN:VCALENDAR
VERSION:2.0
PRODID:-//Squarespace Inc/Squarespace 6//v6//EN
BEGIN:VEVENT
UID:5b14b62cf950b7b3c37f11b9@squarespace.com
DTSTAMP:20180604T034954Z
DTSTART:20180630T140000Z
DTEND:20180630T193000Z
SUMMARY:Scholarship Drama Workshop - Canterbury
END:VEVENT
END:VCALENDAR
