BEGIN:VCALENDAR
VERSION:2.0
PRODID:-//Squarespace Inc/Squarespace 6//v6//EN
BEGIN:VEVENT
UID:5b14af8eaa4a992f188a6e67@squarespace.com
DTSTAMP:20180604T032451Z
DTSTART:20180728T140000Z
DTEND:20180728T180000Z
SUMMARY:Scholarship Drama Workshop - Hawkes Bay
END:VEVENT
END:VCALENDAR
