BEGIN:VCALENDAR
VERSION:2.0
PRODID:-//Squarespace Inc/Squarespace 6//v6//EN
BEGIN:VEVENT
UID:5b5c1ced562fa73ce927aa73@squarespace.com
DTSTAMP:20180728T073654Z
DTSTART:20180801T170000Z
DTEND:20180801T210000Z
SUMMARY:Best Practice Workshop - Canterbury
END:VEVENT
END:VCALENDAR
