BEGIN:VCALENDAR
VERSION:2.0
PRODID:-//Squarespace Inc/Squarespace 6//v6//EN
BEGIN:VEVENT
UID:5b5c1a5170a6addd33a9e535@squarespace.com
DTSTAMP:20180728T073500Z
DTSTART:20180801T200000Z
DTEND:20180801T220000Z
SUMMARY:Theatre Forms External Workshop 
END:VEVENT
END:VCALENDAR
