BEGIN:VCALENDAR
VERSION:2.0
PRODID:-//Squarespace Inc/Squarespace 6//v6//EN
BEGIN:VEVENT
UID:5b836da82b6a282494e5a843@squarespace.com
DTSTAMP:20180827T032200Z
DTSTART:20180827T033000Z
DTEND:20180827T043000Z
SUMMARY:Canterbury Branch AGM
END:VEVENT
END:VCALENDAR
