BEGIN:VCALENDAR
VERSION:2.0
PRODID:-//Squarespace Inc/Squarespace 6//v6//EN
BEGIN:VEVENT
UID:5b14b01ff950b7b3c37e4f7f@squarespace.com
DTSTAMP:20180604T032349Z
DTSTART:20180804T140000Z
DTEND:20180804T180000Z
SUMMARY:Scholarship Drama Workshop - Manawatu
END:VEVENT
END:VCALENDAR
