BEGIN:VCALENDAR
VERSION:2.0
PRODID:-//Squarespace Inc/Squarespace 6//v6//EN
BEGIN:VEVENT
UID:5b5c1b39562fa73ce9278d92@squarespace.com
DTSTAMP:20180728T073441Z
DTSTART:20180918T230000Z
DTEND:20180919T020000Z
SUMMARY:Whakahari Whakaari
END:VEVENT
END:VCALENDAR
