BEGIN:VCALENDAR
VERSION:2.0
PRODID:-//Squarespace Inc/Squarespace 6//v6//EN
BEGIN:VEVENT
UID:5b958ba840ec9a30c750e3c0@squarespace.com
DTSTAMP:20180909T210929Z
DTSTART:20180909T213000Z
DTEND:20180909T223000Z
SUMMARY:Exam Prep Workshop
END:VEVENT
END:VCALENDAR
