BEGIN:VCALENDAR
VERSION:2.0
PRODID:-//Squarespace Inc/Squarespace 6//v6//EN
BEGIN:VEVENT
UID:5b958aa28985832595606502@squarespace.com
DTSTAMP:20180909T210744Z
DTSTART:20180909T213000Z
DTEND:20180909T223000Z
SUMMARY:Scholarship Drama Workshop
END:VEVENT
END:VCALENDAR
