BEGIN:VCALENDAR
VERSION:2.0
PRODID:-//Squarespace Inc/Squarespace 6//v6//EN
BEGIN:VEVENT
UID:5b9589abb8a045c01cd93cdd@squarespace.com
DTSTAMP:20180909T210315Z
DTSTART:20180909T210000Z
DTEND:20180909T220000Z
SUMMARY:Scholarship Prep Sesh
GEO:-36.862327;174.868326
LOCATION:Glendowie College\, 21 Crossfield Road\, Auckland\, New Zealand
END:VEVENT
END:VCALENDAR
