BEGIN:VCALENDAR
VERSION:2.0
PRODID:-//Squarespace Inc/Squarespace 6//v6//EN
BEGIN:VEVENT
UID:5c5237f2898583e0ceeb89af@squarespace.com
DTSTAMP:20190130T235120Z
DTSTART:20190131T000000Z
DTEND:20190131T010000Z
SUMMARY:Massey Branch AGM
END:VEVENT
END:VCALENDAR
