BEGIN:VCALENDAR
VERSION:2.0
PRODID:-//Squarespace Inc/Squarespace 6//v6//EN
BEGIN:VEVENT
UID:5c6f338f7817f71344ab84a3@squarespace.com
DTSTAMP:20190221T232958Z
DTSTART:20190312T194500Z
DTEND:20190312T210000Z
SUMMARY:Waikato Branch - Meet &amp\; Greet
GEO:-37.793315;175.294028
LOCATION:Cook Street Social\, 7 Cook Street\, Hamilton\, Waikato\, 3216\, N
 ew Zealand
END:VEVENT
END:VCALENDAR
