BEGIN:VCALENDAR
VERSION:2.0
PRODID:-//Squarespace Inc/Squarespace 6//v6//EN
BEGIN:VEVENT
UID:5c68bbf2085229f2876923cc@squarespace.com
DTSTAMP:20190217T014619Z
DTSTART:20190314T203000Z
DTEND:20190314T213000Z
SUMMARY:Wellington Branch AGM
GEO:-41.295589;174.772005
LOCATION:toi poneke\, Abel Smith Street\, Wellington\, New Zealand
END:VEVENT
END:VCALENDAR
