BEGIN:VCALENDAR
VERSION:2.0
PRODID:-//Squarespace Inc/Squarespace 6//v6//EN
BEGIN:VEVENT
UID:5c68d4459140b77a89c86d12@squarespace.com
DTSTAMP:20190217T033119Z
DTSTART:20190305T210000Z
DTEND:20190305T220000Z
SUMMARY:Otago / Southland Coffee Break
GEO:-45.868253;170.510949
LOCATION:Ombrello's\, 10 Clarendon St\, Dunedin
END:VEVENT
END:VCALENDAR
