BEGIN:VCALENDAR
VERSION:2.0
PRODID:-//Squarespace Inc/Squarespace 6//v6//EN
BEGIN:VEVENT
UID:5cafb5f81905f406379fa093@squarespace.com
DTSTAMP:20190411T215253Z
DTSTART:20190509T213000Z
DTEND:20190510T000000Z
SUMMARY:Makeup for the Stage
END:VEVENT
END:VCALENDAR
