BEGIN:VCALENDAR
VERSION:2.0
PRODID:-//Squarespace Inc/Squarespace 6//v6//EN
BEGIN:VEVENT
UID:5c6f348a71c10b6b32b546fc@squarespace.com
DTSTAMP:20190221T233342Z
DTSTART:20190617T193000Z
DTEND:20190617T213000Z
SUMMARY:Waikato DNZ &amp\; Red Leap Theatre present
END:VEVENT
END:VCALENDAR
