BEGIN:VCALENDAR
VERSION:2.0
PRODID:-//Squarespace Inc/Squarespace 6//v6//EN
BEGIN:VEVENT
UID:5d43a8b61c750b0001246538@squarespace.com
DTSTAMP:20190803T215328Z
DTSTART:20190813T200000Z
DTEND:20190813T210000Z
SUMMARY:'Winter Warmer' Event
GEO:-45.855788;170.49783
LOCATION:John McGlashan College\, 2 Pilkington Street\, Dunedin\, OTA\, 901
 0\, New Zealand
END:VEVENT
END:VCALENDAR
