BEGIN:VCALENDAR
VERSION:2.0
PRODID:-//Squarespace Inc/Squarespace 6//v6//EN
BEGIN:VEVENT
UID:5e34e2f6cd5a0d4354b13402@squarespace.com
DTSTAMP:20200201T023602Z
DTSTART:20200221T233000Z
DTEND:20200222T023000Z
SUMMARY:Otago/Southland Summer PotLuck
END:VEVENT
END:VCALENDAR
